Workbook

Sheet Start here
A1: KeptStay Airbnb spreadsheet for Australian owners
A2: Step 1 | B2: Type your properties in the list below and the date your financial year starts (1 July).
A3: Step 2 | B3: Income: in Airbnb, open Earnings and export the CSV. Paste its rows under the Income header. The columns match. Pick the property in the last column.
A4: Step 3 | B4: Costs: add cleaning, supplies, repairs, utilities and one-off costs as they happen, with a receipt reference.
A5: Step 4 | B5: Bills: add rates, insurance, strata and loan interest once, with how often you pay them. Put a bill on Bills or Costs, not both.
A6: Step 5 | B6: Summary and Year end fill themselves in. Income counts the Amount column, so Payout rows are never counted twice.
A7: Step 6 | B7: The October 2025 rows on each tab are sample data. Delete them when you start.
A10: Financial year starts | B10: 45839
A12: Your properties
A13: Property 1 | B13: Torquay beach house
A14: Property 2 | B14: Fitzroy apartment
A15: Property 3
A16: Property 4
A17: Property 5
A19: A summary for your records, not tax advice. Made by KeptStay, keptstay.com

Sheet Income
A1: Sample data (October 2025, two sample properties). Delete these rows when you add your own. Keep the header row. Guest details left out.
A2: Date | B2: Type | C2: Confirmation Code | D2: Booking Date | E2: Start Date | F2: End Date | G2: Nights | H2: Guest | I2: Listing | J2: Details | K2: Reference | L2: Currency | M2: Amount | N2: Paid Out | O2: Service Fee | P2: Fast Pay Fee | Q2: Cleaning Fee | R2: Gross Earnings | S2: Occupancy Taxes | T2: Earnings Year | U2: Property
A3: 45933 | B3: Payout | J3: Sample payout | L3: AUD | N3: 1120 | U3: Torquay beach house
A4: 45933 | B4: Reservation | C4: HMSAMPLE01 | D4: 45912 | E4: 45932 | F4: 45935 | G4: 3 | I4: Torquay beach house (sample) | L4: AUD | M4: 1120 | O4: 35 | P4: 0 | Q4: 150 | R4: 1155 | S4: 0 | T4: 2025 | U4: Torquay beach house
A5: 45936 | B5: Payout | J5: Sample payout | L5: AUD | N5: 520 | U5: Fitzroy apartment
A6: 45936 | B6: Reservation | C6: HMSAMPLE02 | D6: 45912 | E6: 45935 | F6: 45937 | G6: 2 | I6: Fitzroy apartment (sample) | L6: AUD | M6: 520 | O6: 16 | P6: 0 | Q6: 110 | R6: 536 | S6: 0 | T6: 2025 | U6: Fitzroy apartment
A7: 45940 | B7: Payout | J7: Sample payout | L7: AUD | N7: 1380 | U7: Torquay beach house
A8: 45940 | B8: Reservation | C8: HMSAMPLE03 | D8: 45912 | E8: 45939 | F8: 45943 | G8: 4 | I8: Torquay beach house (sample) | L8: AUD | M8: 1380 | O8: 43 | P8: 0 | Q8: 150 | R8: 1423 | S8: 0 | T8: 2025 | U8: Torquay beach house
A9: 45944 | B9: Payout | J9: Sample payout | L9: AUD | N9: 640 | U9: Fitzroy apartment
A10: 45944 | B10: Reservation | C10: HMSAMPLE04 | D10: 45912 | E10: 45943 | F10: 45946 | G10: 3 | I10: Fitzroy apartment (sample) | L10: AUD | M10: 640 | O10: 20 | P10: 0 | Q10: 110 | R10: 660 | S10: 0 | T10: 2025 | U10: Fitzroy apartment
A11: 45947 | B11: Payout | J11: Sample payout | L11: AUD | N11: 720 | U11: Torquay beach house
A12: 45947 | B12: Reservation | C12: HMSAMPLE05 | D12: 45912 | E12: 45946 | F12: 45948 | G12: 2 | I12: Torquay beach house (sample) | L12: AUD | M12: 720 | O12: 22 | P12: 0 | Q12: 150 | R12: 742 | S12: 0 | T12: 2025 | U12: Torquay beach house
A13: 45954 | B13: Payout | J13: Sample payout | L13: AUD | N13: 780 | U13: Torquay beach house
A14: 45954 | B14: Reservation | C14: HMSAMPLE06 | D14: 45912 | E14: 45953 | F14: 45956 | G14: 3 | I14: Torquay beach house (sample) | L14: AUD | M14: 780 | O14: 24 | P14: 0 | Q14: 150 | R14: 804 | S14: 0 | T14: 2025 | U14: Torquay beach house
A15: 45955 | B15: Payout | J15: Sample payout | L15: AUD | N15: 470 | U15: Fitzroy apartment
A16: 45955 | B16: Reservation | C16: HMSAMPLE07 | D16: 45912 | E16: 45954 | F16: 45956 | G16: 2 | I16: Fitzroy apartment (sample) | L16: AUD | M16: 470 | O16: 15 | P16: 0 | Q16: 110 | R16: 485 | S16: 0 | T16: 2025 | U16: Fitzroy apartment

Sheet Costs
A1: Sample data (October 2025, two sample properties). Delete these rows when you add your own. Keep the header row.
A2: Date | B2: Property | C2: Category | D2: Description | E2: Amount | F2: GST included? | G2: Receipt ref
A3: 45933 | B3: Torquay beach house | C3: Cleaning and supplies | D3: Cleaner, changeover | E3: 150 | F3: Yes | G3: INV-1041
A4: 45936 | B4: Fitzroy apartment | C4: Cleaning and supplies | D4: Cleaner, changeover | E4: 110 | F4: Yes | G4: INV-2203
A5: 45940 | B5: Torquay beach house | C5: Cleaning and supplies | D5: Cleaner, changeover | E5: 150 | F5: Yes | G5: INV-1042
A6: 45944 | B6: Fitzroy apartment | C6: Cleaning and supplies | D6: Cleaner, changeover | E6: 110 | F6: Yes | G6: INV-2204
A7: 45947 | B7: Torquay beach house | C7: Cleaning and supplies | D7: Cleaner, changeover | E7: 150 | F7: Yes | G7: INV-1043
A8: 45950 | B8: Torquay beach house | C8: Repairs and maintenance | D8: Replace shower mixer | E8: 200 | F8: Yes | G8: INV-5520
A9: 45950 | B9: Fitzroy apartment | C9: Cleaning and supplies | D9: Linen and toiletries | E9: 60 | F9: Yes | G9: RCPT-0331
A10: 45954 | B10: Torquay beach house | C10: Cleaning and supplies | D10: Cleaner, changeover | E10: 150 | F10: Yes | G10: INV-1044
A11: 45955 | B11: Fitzroy apartment | C11: Cleaning and supplies | D11: Cleaner, changeover | E11: 110 | F11: Yes | G11: INV-2205
A12: 45961 | B12: Torquay beach house | C12: Utilities | D12: Power, water and internet | E12: 200 | F12: Yes | G12: BILL-OCT-T
A13: 45961 | B13: Fitzroy apartment | C13: Utilities | D13: Power and internet | E13: 90 | F13: Yes | G13: BILL-OCT-F

Sheet Bills
A1: Sample data (October 2025, two sample properties). Delete these rows when you add your own. Keep the header row. Per month is worked out for you.
A2: Property | B2: Bill | C2: Category | D2: Amount | E2: How often | F2: Per month
A3: Torquay beach house | B3: Council rates | C3: Council rates | D3: 2640 | E3: Yearly | F3: =IF(D3="","",IF(E3="Weekly",D3*52/12,IF(E3="Fortnightly",D3*26/12,IF(E3="Monthly",D3*1,IF(E3="Quarterly",D3*4/12,IF(E3="Yearly",D3*1/12,0))))))
A4: Torquay beach house | B4: Landlord insurance | C4: Insurance | D4: 1800 | E4: Yearly | F4: =IF(D4="","",IF(E4="Weekly",D4*52/12,IF(E4="Fortnightly",D4*26/12,IF(E4="Monthly",D4*1,IF(E4="Quarterly",D4*4/12,IF(E4="Yearly",D4*1/12,0))))))
A5: Torquay beach house | B5: Strata levy | C5: Strata | D5: 450 | E5: Quarterly | F5: =IF(D5="","",IF(E5="Weekly",D5*52/12,IF(E5="Fortnightly",D5*26/12,IF(E5="Monthly",D5*1,IF(E5="Quarterly",D5*4/12,IF(E5="Yearly",D5*1/12,0))))))
A6: Torquay beach house | B6: Loan interest | C6: Interest | D6: 1050 | E6: Monthly | F6: =IF(D6="","",IF(E6="Weekly",D6*52/12,IF(E6="Fortnightly",D6*26/12,IF(E6="Monthly",D6*1,IF(E6="Quarterly",D6*4/12,IF(E6="Yearly",D6*1/12,0))))))
A7: Fitzroy apartment | B7: Council rates | C7: Council rates | D7: 1440 | E7: Yearly | F7: =IF(D7="","",IF(E7="Weekly",D7*52/12,IF(E7="Fortnightly",D7*26/12,IF(E7="Monthly",D7*1,IF(E7="Quarterly",D7*4/12,IF(E7="Yearly",D7*1/12,0))))))
A8: Fitzroy apartment | B8: Landlord insurance | C8: Insurance | D8: 960 | E8: Yearly | F8: =IF(D8="","",IF(E8="Weekly",D8*52/12,IF(E8="Fortnightly",D8*26/12,IF(E8="Monthly",D8*1,IF(E8="Quarterly",D8*4/12,IF(E8="Yearly",D8*1/12,0))))))
A9: Fitzroy apartment | B9: Strata levy | C9: Strata | D9: 900 | E9: Quarterly | F9: =IF(D9="","",IF(E9="Weekly",D9*52/12,IF(E9="Fortnightly",D9*26/12,IF(E9="Monthly",D9*1,IF(E9="Quarterly",D9*4/12,IF(E9="Yearly",D9*1/12,0))))))
A10: Fitzroy apartment | B10: Loan interest | C10: Interest | D10: 520 | E10: Monthly | F10: =IF(D10="","",IF(E10="Weekly",D10*52/12,IF(E10="Fortnightly",D10*26/12,IF(E10="Monthly",D10*1,IF(E10="Quarterly",D10*4/12,IF(E10="Yearly",D10*1/12,0))))))
F11: =IF(D11="","",IF(E11="Weekly",D11*52/12,IF(E11="Fortnightly",D11*26/12,IF(E11="Monthly",D11*1,IF(E11="Quarterly",D11*4/12,IF(E11="Yearly",D11*1/12,0))))))
F12: =IF(D12="","",IF(E12="Weekly",D12*52/12,IF(E12="Fortnightly",D12*26/12,IF(E12="Monthly",D12*1,IF(E12="Quarterly",D12*4/12,IF(E12="Yearly",D12*1/12,0))))))
F13: =IF(D13="","",IF(E13="Weekly",D13*52/12,IF(E13="Fortnightly",D13*26/12,IF(E13="Monthly",D13*1,IF(E13="Quarterly",D13*4/12,IF(E13="Yearly",D13*1/12,0))))))
F14: =IF(D14="","",IF(E14="Weekly",D14*52/12,IF(E14="Fortnightly",D14*26/12,IF(E14="Monthly",D14*1,IF(E14="Quarterly",D14*4/12,IF(E14="Yearly",D14*1/12,0))))))
F15: =IF(D15="","",IF(E15="Weekly",D15*52/12,IF(E15="Fortnightly",D15*26/12,IF(E15="Monthly",D15*1,IF(E15="Quarterly",D15*4/12,IF(E15="Yearly",D15*1/12,0))))))
F16: =IF(D16="","",IF(E16="Weekly",D16*52/12,IF(E16="Fortnightly",D16*26/12,IF(E16="Monthly",D16*1,IF(E16="Quarterly",D16*4/12,IF(E16="Yearly",D16*1/12,0))))))
F17: =IF(D17="","",IF(E17="Weekly",D17*52/12,IF(E17="Fortnightly",D17*26/12,IF(E17="Monthly",D17*1,IF(E17="Quarterly",D17*4/12,IF(E17="Yearly",D17*1/12,0))))))
F18: =IF(D18="","",IF(E18="Weekly",D18*52/12,IF(E18="Fortnightly",D18*26/12,IF(E18="Monthly",D18*1,IF(E18="Quarterly",D18*4/12,IF(E18="Yearly",D18*1/12,0))))))
F19: =IF(D19="","",IF(E19="Weekly",D19*52/12,IF(E19="Fortnightly",D19*26/12,IF(E19="Monthly",D19*1,IF(E19="Quarterly",D19*4/12,IF(E19="Yearly",D19*1/12,0))))))
F20: =IF(D20="","",IF(E20="Weekly",D20*52/12,IF(E20="Fortnightly",D20*26/12,IF(E20="Monthly",D20*1,IF(E20="Quarterly",D20*4/12,IF(E20="Yearly",D20*1/12,0))))))
F21: =IF(D21="","",IF(E21="Weekly",D21*52/12,IF(E21="Fortnightly",D21*26/12,IF(E21="Monthly",D21*1,IF(E21="Quarterly",D21*4/12,IF(E21="Yearly",D21*1/12,0))))))
F22: =IF(D22="","",IF(E22="Weekly",D22*52/12,IF(E22="Fortnightly",D22*26/12,IF(E22="Monthly",D22*1,IF(E22="Quarterly",D22*4/12,IF(E22="Yearly",D22*1/12,0))))))
... F200: =IF(D200="","",IF(E200="Weekly",D200*52/12,IF(E200="Fortnightly",D200*26/12,IF(E200="Monthly",D200*1,IF(E200="Quarterly",D200*4/12,IF(E200="Yearly",D200*1/12,0))))))

Sheet Summary
A1: Fills itself in from Income, Costs and Bills. Bills are spread evenly across every month.
A2: Property | B2: Month | C2: Income | D2: Costs | E2: Bills | F2: What's left
A3: =""&'Start here'!$B$13 | B3: =DATE(YEAR('Start here'!$B$10),MONTH('Start here'!$B$10)+0,1) | C3: =IF($A3="","",SUMIFS(Income!$M:$M,Income!$U:$U,$A3,Income!$A:$A,">="&$B3,Income!$A:$A,"<"&DATE(YEAR($B3),MONTH($B3)+1,1))) | D3: =IF($A3="","",SUMIFS(Costs!$E:$E,Costs!$B:$B,$A3,Costs!$A:$A,">="&$B3,Costs!$A:$A,"<"&DATE(YEAR($B3),MONTH($B3)+1,1))) | E3: =IF($A3="","",SUMIFS(Bills!$F:$F,Bills!$A:$A,$A3)) | F3: =IF($A3="","",C3-D3-E3)
A4: =""&'Start here'!$B$13 | B4: =DATE(YEAR('Start here'!$B$10),MONTH('Start here'!$B$10)+1,1) | C4: =IF($A4="","",SUMIFS(Income!$M:$M,Income!$U:$U,$A4,Income!$A:$A,">="&$B4,Income!$A:$A,"<"&DATE(YEAR($B4),MONTH($B4)+1,1))) | D4: =IF($A4="","",SUMIFS(Costs!$E:$E,Costs!$B:$B,$A4,Costs!$A:$A,">="&$B4,Costs!$A:$A,"<"&DATE(YEAR($B4),MONTH($B4)+1,1))) | E4: =IF($A4="","",SUMIFS(Bills!$F:$F,Bills!$A:$A,$A4)) | F4: =IF($A4="","",C4-D4-E4)
A5: =""&'Start here'!$B$13 | B5: =DATE(YEAR('Start here'!$B$10),MONTH('Start here'!$B$10)+2,1) | C5: =IF($A5="","",SUMIFS(Income!$M:$M,Income!$U:$U,$A5,Income!$A:$A,">="&$B5,Income!$A:$A,"<"&DATE(YEAR($B5),MONTH($B5)+1,1))) | D5: =IF($A5="","",SUMIFS(Costs!$E:$E,Costs!$B:$B,$A5,Costs!$A:$A,">="&$B5,Costs!$A:$A,"<"&DATE(YEAR($B5),MONTH($B5)+1,1))) | E5: =IF($A5="","",SUMIFS(Bills!$F:$F,Bills!$A:$A,$A5)) | F5: =IF($A5="","",C5-D5-E5)
A6: =""&'Start here'!$B$13 | B6: =DATE(YEAR('Start here'!$B$10),MONTH('Start here'!$B$10)+3,1) | C6: =IF($A6="","",SUMIFS(Income!$M:$M,Income!$U:$U,$A6,Income!$A:$A,">="&$B6,Income!$A:$A,"<"&DATE(YEAR($B6),MONTH($B6)+1,1))) | D6: =IF($A6="","",SUMIFS(Costs!$E:$E,Costs!$B:$B,$A6,Costs!$A:$A,">="&$B6,Costs!$A:$A,"<"&DATE(YEAR($B6),MONTH($B6)+1,1))) | E6: =IF($A6="","",SUMIFS(Bills!$F:$F,Bills!$A:$A,$A6)) | F6: =IF($A6="","",C6-D6-E6)
A7: =""&'Start here'!$B$13 | B7: =DATE(YEAR('Start here'!$B$10),MONTH('Start here'!$B$10)+4,1) | C7: =IF($A7="","",SUMIFS(Income!$M:$M,Income!$U:$U,$A7,Income!$A:$A,">="&$B7,Income!$A:$A,"<"&DATE(YEAR($B7),MONTH($B7)+1,1))) | D7: =IF($A7="","",SUMIFS(Costs!$E:$E,Costs!$B:$B,$A7,Costs!$A:$A,">="&$B7,Costs!$A:$A,"<"&DATE(YEAR($B7),MONTH($B7)+1,1))) | E7: =IF($A7="","",SUMIFS(Bills!$F:$F,Bills!$A:$A,$A7)) | F7: =IF($A7="","",C7-D7-E7)
A8: =""&'Start here'!$B$13 | B8: =DATE(YEAR('Start here'!$B$10),MONTH('Start here'!$B$10)+5,1) | C8: =IF($A8="","",SUMIFS(Income!$M:$M,Income!$U:$U,$A8,Income!$A:$A,">="&$B8,Income!$A:$A,"<"&DATE(YEAR($B8),MONTH($B8)+1,1))) | D8: =IF($A8="","",SUMIFS(Costs!$E:$E,Costs!$B:$B,$A8,Costs!$A:$A,">="&$B8,Costs!$A:$A,"<"&DATE(YEAR($B8),MONTH($B8)+1,1))) | E8: =IF($A8="","",SUMIFS(Bills!$F:$F,Bills!$A:$A,$A8)) | F8: =IF($A8="","",C8-D8-E8)
A9: =""&'Start here'!$B$13 | B9: =DATE(YEAR('Start here'!$B$10),MONTH('Start here'!$B$10)+6,1) | C9: =IF($A9="","",SUMIFS(Income!$M:$M,Income!$U:$U,$A9,Income!$A:$A,">="&$B9,Income!$A:$A,"<"&DATE(YEAR($B9),MONTH($B9)+1,1))) | D9: =IF($A9="","",SUMIFS(Costs!$E:$E,Costs!$B:$B,$A9,Costs!$A:$A,">="&$B9,Costs!$A:$A,"<"&DATE(YEAR($B9),MONTH($B9)+1,1))) | E9: =IF($A9="","",SUMIFS(Bills!$F:$F,Bills!$A:$A,$A9)) | F9: =IF($A9="","",C9-D9-E9)
A10: =""&'Start here'!$B$13 | B10: =DATE(YEAR('Start here'!$B$10),MONTH('Start here'!$B$10)+7,1) | C10: =IF($A10="","",SUMIFS(Income!$M:$M,Income!$U:$U,$A10,Income!$A:$A,">="&$B10,Income!$A:$A,"<"&DATE(YEAR($B10),MONTH($B10)+1,1))) | D10: =IF($A10="","",SUMIFS(Costs!$E:$E,Costs!$B:$B,$A10,Costs!$A:$A,">="&$B10,Costs!$A:$A,"<"&DATE(YEAR($B10),MONTH($B10)+1,1))) | E10: =IF($A10="","",SUMIFS(Bills!$F:$F,Bills!$A:$A,$A10)) | F10: =IF($A10="","",C10-D10-E10)
A11: =""&'Start here'!$B$13 | B11: =DATE(YEAR('Start here'!$B$10),MONTH('Start here'!$B$10)+8,1) | C11: =IF($A11="","",SUMIFS(Income!$M:$M,Income!$U:$U,$A11,Income!$A:$A,">="&$B11,Income!$A:$A,"<"&DATE(YEAR($B11),MONTH($B11)+1,1))) | D11: =IF($A11="","",SUMIFS(Costs!$E:$E,Costs!$B:$B,$A11,Costs!$A:$A,">="&$B11,Costs!$A:$A,"<"&DATE(YEAR($B11),MONTH($B11)+1,1))) | E11: =IF($A11="","",SUMIFS(Bills!$F:$F,Bills!$A:$A,$A11)) | F11: =IF($A11="","",C11-D11-E11)
A12: =""&'Start here'!$B$13 | B12: =DATE(YEAR('Start here'!$B$10),MONTH('Start here'!$B$10)+9,1) | C12: =IF($A12="","",SUMIFS(Income!$M:$M,Income!$U:$U,$A12,Income!$A:$A,">="&$B12,Income!$A:$A,"<"&DATE(YEAR($B12),MONTH($B12)+1,1))) | D12: =IF($A12="","",SUMIFS(Costs!$E:$E,Costs!$B:$B,$A12,Costs!$A:$A,">="&$B12,Costs!$A:$A,"<"&DATE(YEAR($B12),MONTH($B12)+1,1))) | E12: =IF($A12="","",SUMIFS(Bills!$F:$F,Bills!$A:$A,$A12)) | F12: =IF($A12="","",C12-D12-E12)
A13: =""&'Start here'!$B$13 | B13: =DATE(YEAR('Start here'!$B$10),MONTH('Start here'!$B$10)+10,1) | C13: =IF($A13="","",SUMIFS(Income!$M:$M,Income!$U:$U,$A13,Income!$A:$A,">="&$B13,Income!$A:$A,"<"&DATE(YEAR($B13),MONTH($B13)+1,1))) | D13: =IF($A13="","",SUMIFS(Costs!$E:$E,Costs!$B:$B,$A13,Costs!$A:$A,">="&$B13,Costs!$A:$A,"<"&DATE(YEAR($B13),MONTH($B13)+1,1))) | E13: =IF($A13="","",SUMIFS(Bills!$F:$F,Bills!$A:$A,$A13)) | F13: =IF($A13="","",C13-D13-E13)
A14: =""&'Start here'!$B$13 | B14: =DATE(YEAR('Start here'!$B$10),MONTH('Start here'!$B$10)+11,1) | C14: =IF($A14="","",SUMIFS(Income!$M:$M,Income!$U:$U,$A14,Income!$A:$A,">="&$B14,Income!$A:$A,"<"&DATE(YEAR($B14),MONTH($B14)+1,1))) | D14: =IF($A14="","",SUMIFS(Costs!$E:$E,Costs!$B:$B,$A14,Costs!$A:$A,">="&$B14,Costs!$A:$A,"<"&DATE(YEAR($B14),MONTH($B14)+1,1))) | E14: =IF($A14="","",SUMIFS(Bills!$F:$F,Bills!$A:$A,$A14)) | F14: =IF($A14="","",C14-D14-E14)
A15: =""&'Start here'!$B$14 | B15: =DATE(YEAR('Start here'!$B$10),MONTH('Start here'!$B$10)+0,1) | C15: =IF($A15="","",SUMIFS(Income!$M:$M,Income!$U:$U,$A15,Income!$A:$A,">="&$B15,Income!$A:$A,"<"&DATE(YEAR($B15),MONTH($B15)+1,1))) | D15: =IF($A15="","",SUMIFS(Costs!$E:$E,Costs!$B:$B,$A15,Costs!$A:$A,">="&$B15,Costs!$A:$A,"<"&DATE(YEAR($B15),MONTH($B15)+1,1))) | E15: =IF($A15="","",SUMIFS(Bills!$F:$F,Bills!$A:$A,$A15)) | F15: =IF($A15="","",C15-D15-E15)
A16: =""&'Start here'!$B$14 | B16: =DATE(YEAR('Start here'!$B$10),MONTH('Start here'!$B$10)+1,1) | C16: =IF($A16="","",SUMIFS(Income!$M:$M,Income!$U:$U,$A16,Income!$A:$A,">="&$B16,Income!$A:$A,"<"&DATE(YEAR($B16),MONTH($B16)+1,1))) | D16: =IF($A16="","",SUMIFS(Costs!$E:$E,Costs!$B:$B,$A16,Costs!$A:$A,">="&$B16,Costs!$A:$A,"<"&DATE(YEAR($B16),MONTH($B16)+1,1))) | E16: =IF($A16="","",SUMIFS(Bills!$F:$F,Bills!$A:$A,$A16)) | F16: =IF($A16="","",C16-D16-E16)
A17: =""&'Start here'!$B$14 | B17: =DATE(YEAR('Start here'!$B$10),MONTH('Start here'!$B$10)+2,1) | C17: =IF($A17="","",SUMIFS(Income!$M:$M,Income!$U:$U,$A17,Income!$A:$A,">="&$B17,Income!$A:$A,"<"&DATE(YEAR($B17),MONTH($B17)+1,1))) | D17: =IF($A17="","",SUMIFS(Costs!$E:$E,Costs!$B:$B,$A17,Costs!$A:$A,">="&$B17,Costs!$A:$A,"<"&DATE(YEAR($B17),MONTH($B17)+1,1))) | E17: =IF($A17="","",SUMIFS(Bills!$F:$F,Bills!$A:$A,$A17)) | F17: =IF($A17="","",C17-D17-E17)
A18: =""&'Start here'!$B$14 | B18: =DATE(YEAR('Start here'!$B$10),MONTH('Start here'!$B$10)+3,1) | C18: =IF($A18="","",SUMIFS(Income!$M:$M,Income!$U:$U,$A18,Income!$A:$A,">="&$B18,Income!$A:$A,"<"&DATE(YEAR($B18),MONTH($B18)+1,1))) | D18: =IF($A18="","",SUMIFS(Costs!$E:$E,Costs!$B:$B,$A18,Costs!$A:$A,">="&$B18,Costs!$A:$A,"<"&DATE(YEAR($B18),MONTH($B18)+1,1))) | E18: =IF($A18="","",SUMIFS(Bills!$F:$F,Bills!$A:$A,$A18)) | F18: =IF($A18="","",C18-D18-E18)
A19: =""&'Start here'!$B$14 | B19: =DATE(YEAR('Start here'!$B$10),MONTH('Start here'!$B$10)+4,1) | C19: =IF($A19="","",SUMIFS(Income!$M:$M,Income!$U:$U,$A19,Income!$A:$A,">="&$B19,Income!$A:$A,"<"&DATE(YEAR($B19),MONTH($B19)+1,1))) | D19: =IF($A19="","",SUMIFS(Costs!$E:$E,Costs!$B:$B,$A19,Costs!$A:$A,">="&$B19,Costs!$A:$A,"<"&DATE(YEAR($B19),MONTH($B19)+1,1))) | E19: =IF($A19="","",SUMIFS(Bills!$F:$F,Bills!$A:$A,$A19)) | F19: =IF($A19="","",C19-D19-E19)
A20: =""&'Start here'!$B$14 | B20: =DATE(YEAR('Start here'!$B$10),MONTH('Start here'!$B$10)+5,1) | C20: =IF($A20="","",SUMIFS(Income!$M:$M,Income!$U:$U,$A20,Income!$A:$A,">="&$B20,Income!$A:$A,"<"&DATE(YEAR($B20),MONTH($B20)+1,1))) | D20: =IF($A20="","",SUMIFS(Costs!$E:$E,Costs!$B:$B,$A20,Costs!$A:$A,">="&$B20,Costs!$A:$A,"<"&DATE(YEAR($B20),MONTH($B20)+1,1))) | E20: =IF($A20="","",SUMIFS(Bills!$F:$F,Bills!$A:$A,$A20)) | F20: =IF($A20="","",C20-D20-E20)
A21: =""&'Start here'!$B$14 | B21: =DATE(YEAR('Start here'!$B$10),MONTH('Start here'!$B$10)+6,1) | C21: =IF($A21="","",SUMIFS(Income!$M:$M,Income!$U:$U,$A21,Income!$A:$A,">="&$B21,Income!$A:$A,"<"&DATE(YEAR($B21),MONTH($B21)+1,1))) | D21: =IF($A21="","",SUMIFS(Costs!$E:$E,Costs!$B:$B,$A21,Costs!$A:$A,">="&$B21,Costs!$A:$A,"<"&DATE(YEAR($B21),MONTH($B21)+1,1))) | E21: =IF($A21="","",SUMIFS(Bills!$F:$F,Bills!$A:$A,$A21)) | F21: =IF($A21="","",C21-D21-E21)
A22: =""&'Start here'!$B$14 | B22: =DATE(YEAR('Start here'!$B$10),MONTH('Start here'!$B$10)+7,1) | C22: =IF($A22="","",SUMIFS(Income!$M:$M,Income!$U:$U,$A22,Income!$A:$A,">="&$B22,Income!$A:$A,"<"&DATE(YEAR($B22),MONTH($B22)+1,1))) | D22: =IF($A22="","",SUMIFS(Costs!$E:$E,Costs!$B:$B,$A22,Costs!$A:$A,">="&$B22,Costs!$A:$A,"<"&DATE(YEAR($B22),MONTH($B22)+1,1))) | E22: =IF($A22="","",SUMIFS(Bills!$F:$F,Bills!$A:$A,$A22)) | F22: =IF($A22="","",C22-D22-E22)
A23: =""&'Start here'!$B$14 | B23: =DATE(YEAR('Start here'!$B$10),MONTH('Start here'!$B$10)+8,1) | C23: =IF($A23="","",SUMIFS(Income!$M:$M,Income!$U:$U,$A23,Income!$A:$A,">="&$B23,Income!$A:$A,"<"&DATE(YEAR($B23),MONTH($B23)+1,1))) | D23: =IF($A23="","",SUMIFS(Costs!$E:$E,Costs!$B:$B,$A23,Costs!$A:$A,">="&$B23,Costs!$A:$A,"<"&DATE(YEAR($B23),MONTH($B23)+1,1))) | E23: =IF($A23="","",SUMIFS(Bills!$F:$F,Bills!$A:$A,$A23)) | F23: =IF($A23="","",C23-D23-E23)
A24: =""&'Start here'!$B$14 | B24: =DATE(YEAR('Start here'!$B$10),MONTH('Start here'!$B$10)+9,1) | C24: =IF($A24="","",SUMIFS(Income!$M:$M,Income!$U:$U,$A24,Income!$A:$A,">="&$B24,Income!$A:$A,"<"&DATE(YEAR($B24),MONTH($B24)+1,1))) | D24: =IF($A24="","",SUMIFS(Costs!$E:$E,Costs!$B:$B,$A24,Costs!$A:$A,">="&$B24,Costs!$A:$A,"<"&DATE(YEAR($B24),MONTH($B24)+1,1))) | E24: =IF($A24="","",SUMIFS(Bills!$F:$F,Bills!$A:$A,$A24)) | F24: =IF($A24="","",C24-D24-E24)
A25: =""&'Start here'!$B$14 | B25: =DATE(YEAR('Start here'!$B$10),MONTH('Start here'!$B$10)+10,1) | C25: =IF($A25="","",SUMIFS(Income!$M:$M,Income!$U:$U,$A25,Income!$A:$A,">="&$B25,Income!$A:$A,"<"&DATE(YEAR($B25),MONTH($B25)+1,1))) | D25: =IF($A25="","",SUMIFS(Costs!$E:$E,Costs!$B:$B,$A25,Costs!$A:$A,">="&$B25,Costs!$A:$A,"<"&DATE(YEAR($B25),MONTH($B25)+1,1))) | E25: =IF($A25="","",SUMIFS(Bills!$F:$F,Bills!$A:$A,$A25)) | F25: =IF($A25="","",C25-D25-E25)
A26: =""&'Start here'!$B$14 | B26: =DATE(YEAR('Start here'!$B$10),MONTH('Start here'!$B$10)+11,1) | C26: =IF($A26="","",SUMIFS(Income!$M:$M,Income!$U:$U,$A26,Income!$A:$A,">="&$B26,Income!$A:$A,"<"&DATE(YEAR($B26),MONTH($B26)+1,1))) | D26: =IF($A26="","",SUMIFS(Costs!$E:$E,Costs!$B:$B,$A26,Costs!$A:$A,">="&$B26,Costs!$A:$A,"<"&DATE(YEAR($B26),MONTH($B26)+1,1))) | E26: =IF($A26="","",SUMIFS(Bills!$F:$F,Bills!$A:$A,$A26)) | F26: =IF($A26="","",C26-D26-E26)
A27: =""&'Start here'!$B$15 | B27: =DATE(YEAR('Start here'!$B$10),MONTH('Start here'!$B$10)+0,1) | C27: =IF($A27="","",SUMIFS(Income!$M:$M,Income!$U:$U,$A27,Income!$A:$A,">="&$B27,Income!$A:$A,"<"&DATE(YEAR($B27),MONTH($B27)+1,1))) | D27: =IF($A27="","",SUMIFS(Costs!$E:$E,Costs!$B:$B,$A27,Costs!$A:$A,">="&$B27,Costs!$A:$A,"<"&DATE(YEAR($B27),MONTH($B27)+1,1))) | E27: =IF($A27="","",SUMIFS(Bills!$F:$F,Bills!$A:$A,$A27)) | F27: =IF($A27="","",C27-D27-E27)
A28: =""&'Start here'!$B$15 | B28: =DATE(YEAR('Start here'!$B$10),MONTH('Start here'!$B$10)+1,1) | C28: =IF($A28="","",SUMIFS(Income!$M:$M,Income!$U:$U,$A28,Income!$A:$A,">="&$B28,Income!$A:$A,"<"&DATE(YEAR($B28),MONTH($B28)+1,1))) | D28: =IF($A28="","",SUMIFS(Costs!$E:$E,Costs!$B:$B,$A28,Costs!$A:$A,">="&$B28,Costs!$A:$A,"<"&DATE(YEAR($B28),MONTH($B28)+1,1))) | E28: =IF($A28="","",SUMIFS(Bills!$F:$F,Bills!$A:$A,$A28)) | F28: =IF($A28="","",C28-D28-E28)
A29: =""&'Start here'!$B$15 | B29: =DATE(YEAR('Start here'!$B$10),MONTH('Start here'!$B$10)+2,1) | C29: =IF($A29="","",SUMIFS(Income!$M:$M,Income!$U:$U,$A29,Income!$A:$A,">="&$B29,Income!$A:$A,"<"&DATE(YEAR($B29),MONTH($B29)+1,1))) | D29: =IF($A29="","",SUMIFS(Costs!$E:$E,Costs!$B:$B,$A29,Costs!$A:$A,">="&$B29,Costs!$A:$A,"<"&DATE(YEAR($B29),MONTH($B29)+1,1))) | E29: =IF($A29="","",SUMIFS(Bills!$F:$F,Bills!$A:$A,$A29)) | F29: =IF($A29="","",C29-D29-E29)
A30: =""&'Start here'!$B$15 | B30: =DATE(YEAR('Start here'!$B$10),MONTH('Start here'!$B$10)+3,1) | C30: =IF($A30="","",SUMIFS(Income!$M:$M,Income!$U:$U,$A30,Income!$A:$A,">="&$B30,Income!$A:$A,"<"&DATE(YEAR($B30),MONTH($B30)+1,1))) | D30: =IF($A30="","",SUMIFS(Costs!$E:$E,Costs!$B:$B,$A30,Costs!$A:$A,">="&$B30,Costs!$A:$A,"<"&DATE(YEAR($B30),MONTH($B30)+1,1))) | E30: =IF($A30="","",SUMIFS(Bills!$F:$F,Bills!$A:$A,$A30)) | F30: =IF($A30="","",C30-D30-E30)
A31: =""&'Start here'!$B$15 | B31: =DATE(YEAR('Start here'!$B$10),MONTH('Start here'!$B$10)+4,1) | C31: =IF($A31="","",SUMIFS(Income!$M:$M,Income!$U:$U,$A31,Income!$A:$A,">="&$B31,Income!$A:$A,"<"&DATE(YEAR($B31),MONTH($B31)+1,1))) | D31: =IF($A31="","",SUMIFS(Costs!$E:$E,Costs!$B:$B,$A31,Costs!$A:$A,">="&$B31,Costs!$A:$A,"<"&DATE(YEAR($B31),MONTH($B31)+1,1))) | E31: =IF($A31="","",SUMIFS(Bills!$F:$F,Bills!$A:$A,$A31)) | F31: =IF($A31="","",C31-D31-E31)
A32: =""&'Start here'!$B$15 | B32: =DATE(YEAR('Start here'!$B$10),MONTH('Start here'!$B$10)+5,1) | C32: =IF($A32="","",SUMIFS(Income!$M:$M,Income!$U:$U,$A32,Income!$A:$A,">="&$B32,Income!$A:$A,"<"&DATE(YEAR($B32),MONTH($B32)+1,1))) | D32: =IF($A32="","",SUMIFS(Costs!$E:$E,Costs!$B:$B,$A32,Costs!$A:$A,">="&$B32,Costs!$A:$A,"<"&DATE(YEAR($B32),MONTH($B32)+1,1))) | E32: =IF($A32="","",SUMIFS(Bills!$F:$F,Bills!$A:$A,$A32)) | F32: =IF($A32="","",C32-D32-E32)
A33: =""&'Start here'!$B$15 | B33: =DATE(YEAR('Start here'!$B$10),MONTH('Start here'!$B$10)+6,1) | C33: =IF($A33="","",SUMIFS(Income!$M:$M,Income!$U:$U,$A33,Income!$A:$A,">="&$B33,Income!$A:$A,"<"&DATE(YEAR($B33),MONTH($B33)+1,1))) | D33: =IF($A33="","",SUMIFS(Costs!$E:$E,Costs!$B:$B,$A33,Costs!$A:$A,">="&$B33,Costs!$A:$A,"<"&DATE(YEAR($B33),MONTH($B33)+1,1))) | E33: =IF($A33="","",SUMIFS(Bills!$F:$F,Bills!$A:$A,$A33)) | F33: =IF($A33="","",C33-D33-E33)
A34: =""&'Start here'!$B$15 | B34: =DATE(YEAR('Start here'!$B$10),MONTH('Start here'!$B$10)+7,1) | C34: =IF($A34="","",SUMIFS(Income!$M:$M,Income!$U:$U,$A34,Income!$A:$A,">="&$B34,Income!$A:$A,"<"&DATE(YEAR($B34),MONTH($B34)+1,1))) | D34: =IF($A34="","",SUMIFS(Costs!$E:$E,Costs!$B:$B,$A34,Costs!$A:$A,">="&$B34,Costs!$A:$A,"<"&DATE(YEAR($B34),MONTH($B34)+1,1))) | E34: =IF($A34="","",SUMIFS(Bills!$F:$F,Bills!$A:$A,$A34)) | F34: =IF($A34="","",C34-D34-E34)
A35: =""&'Start here'!$B$15 | B35: =DATE(YEAR('Start here'!$B$10),MONTH('Start here'!$B$10)+8,1) | C35: =IF($A35="","",SUMIFS(Income!$M:$M,Income!$U:$U,$A35,Income!$A:$A,">="&$B35,Income!$A:$A,"<"&DATE(YEAR($B35),MONTH($B35)+1,1))) | D35: =IF($A35="","",SUMIFS(Costs!$E:$E,Costs!$B:$B,$A35,Costs!$A:$A,">="&$B35,Costs!$A:$A,"<"&DATE(YEAR($B35),MONTH($B35)+1,1))) | E35: =IF($A35="","",SUMIFS(Bills!$F:$F,Bills!$A:$A,$A35)) | F35: =IF($A35="","",C35-D35-E35)
A36: =""&'Start here'!$B$15 | B36: =DATE(YEAR('Start here'!$B$10),MONTH('Start here'!$B$10)+9,1) | C36: =IF($A36="","",SUMIFS(Income!$M:$M,Income!$U:$U,$A36,Income!$A:$A,">="&$B36,Income!$A:$A,"<"&DATE(YEAR($B36),MONTH($B36)+1,1))) | D36: =IF($A36="","",SUMIFS(Costs!$E:$E,Costs!$B:$B,$A36,Costs!$A:$A,">="&$B36,Costs!$A:$A,"<"&DATE(YEAR($B36),MONTH($B36)+1,1))) | E36: =IF($A36="","",SUMIFS(Bills!$F:$F,Bills!$A:$A,$A36)) | F36: =IF($A36="","",C36-D36-E36)
A37: =""&'Start here'!$B$15 | B37: =DATE(YEAR('Start here'!$B$10),MONTH('Start here'!$B$10)+10,1) | C37: =IF($A37="","",SUMIFS(Income!$M:$M,Income!$U:$U,$A37,Income!$A:$A,">="&$B37,Income!$A:$A,"<"&DATE(YEAR($B37),MONTH($B37)+1,1))) | D37: =IF($A37="","",SUMIFS(Costs!$E:$E,Costs!$B:$B,$A37,Costs!$A:$A,">="&$B37,Costs!$A:$A,"<"&DATE(YEAR($B37),MONTH($B37)+1,1))) | E37: =IF($A37="","",SUMIFS(Bills!$F:$F,Bills!$A:$A,$A37)) | F37: =IF($A37="","",C37-D37-E37)
A38: =""&'Start here'!$B$15 | B38: =DATE(YEAR('Start here'!$B$10),MONTH('Start here'!$B$10)+11,1) | C38: =IF($A38="","",SUMIFS(Income!$M:$M,Income!$U:$U,$A38,Income!$A:$A,">="&$B38,Income!$A:$A,"<"&DATE(YEAR($B38),MONTH($B38)+1,1))) | D38: =IF($A38="","",SUMIFS(Costs!$E:$E,Costs!$B:$B,$A38,Costs!$A:$A,">="&$B38,Costs!$A:$A,"<"&DATE(YEAR($B38),MONTH($B38)+1,1))) | E38: =IF($A38="","",SUMIFS(Bills!$F:$F,Bills!$A:$A,$A38)) | F38: =IF($A38="","",C38-D38-E38)
A39: =""&'Start here'!$B$16 | B39: =DATE(YEAR('Start here'!$B$10),MONTH('Start here'!$B$10)+0,1) | C39: =IF($A39="","",SUMIFS(Income!$M:$M,Income!$U:$U,$A39,Income!$A:$A,">="&$B39,Income!$A:$A,"<"&DATE(YEAR($B39),MONTH($B39)+1,1))) | D39: =IF($A39="","",SUMIFS(Costs!$E:$E,Costs!$B:$B,$A39,Costs!$A:$A,">="&$B39,Costs!$A:$A,"<"&DATE(YEAR($B39),MONTH($B39)+1,1))) | E39: =IF($A39="","",SUMIFS(Bills!$F:$F,Bills!$A:$A,$A39)) | F39: =IF($A39="","",C39-D39-E39)
A40: =""&'Start here'!$B$16 | B40: =DATE(YEAR('Start here'!$B$10),MONTH('Start here'!$B$10)+1,1) | C40: =IF($A40="","",SUMIFS(Income!$M:$M,Income!$U:$U,$A40,Income!$A:$A,">="&$B40,Income!$A:$A,"<"&DATE(YEAR($B40),MONTH($B40)+1,1))) | D40: =IF($A40="","",SUMIFS(Costs!$E:$E,Costs!$B:$B,$A40,Costs!$A:$A,">="&$B40,Costs!$A:$A,"<"&DATE(YEAR($B40),MONTH($B40)+1,1))) | E40: =IF($A40="","",SUMIFS(Bills!$F:$F,Bills!$A:$A,$A40)) | F40: =IF($A40="","",C40-D40-E40)
...

Sheet Year end
A1: July to June totals by property. A summary for your records, not tax advice.
A2: Category | B2: =""&'Start here'!$B$13 | C2: =""&'Start here'!$B$14 | D2: =""&'Start here'!$B$15 | E2: =""&'Start here'!$B$16 | F2: =""&'Start here'!$B$17 | G2: Total
A3: Rental income | B3: =IF(B$2="","",SUMIFS(Income!$M:$M,Income!$U:$U,B$2,Income!$A:$A,">="&$B$18,Income!$A:$A,"<="&$B$19)+SUMIFS(Income!$O:$O,Income!$U:$U,B$2,Income!$A:$A,">="&$B$18,Income!$A:$A,"<="&$B$19)+SUMIFS(Income!$P:$P,Income!$U:$U,B$2,Income!$A:$A,">="&$B$18,Income!$A:$A,"<="&$B$19)) | C3: =IF(C$2="","",SUMIFS(Income!$M:$M,Income!$U:$U,C$2,Income!$A:$A,">="&$B$18,Income!$A:$A,"<="&$B$19)+SUMIFS(Income!$O:$O,Income!$U:$U,C$2,Income!$A:$A,">="&$B$18,Income!$A:$A,"<="&$B$19)+SUMIFS(Income!$P:$P,Income!$U:$U,C$2,Income!$A:$A,">="&$B$18,Income!$A:$A,"<="&$B$19)) | D3: =IF(D$2="","",SUMIFS(Income!$M:$M,Income!$U:$U,D$2,Income!$A:$A,">="&$B$18,Income!$A:$A,"<="&$B$19)+SUMIFS(Income!$O:$O,Income!$U:$U,D$2,Income!$A:$A,">="&$B$18,Income!$A:$A,"<="&$B$19)+SUMIFS(Income!$P:$P,Income!$U:$U,D$2,Income!$A:$A,">="&$B$18,Income!$A:$A,"<="&$B$19)) | E3: =IF(E$2="","",SUMIFS(Income!$M:$M,Income!$U:$U,E$2,Income!$A:$A,">="&$B$18,Income!$A:$A,"<="&$B$19)+SUMIFS(Income!$O:$O,Income!$U:$U,E$2,Income!$A:$A,">="&$B$18,Income!$A:$A,"<="&$B$19)+SUMIFS(Income!$P:$P,Income!$U:$U,E$2,Income!$A:$A,">="&$B$18,Income!$A:$A,"<="&$B$19)) | F3: =IF(F$2="","",SUMIFS(Income!$M:$M,Income!$U:$U,F$2,Income!$A:$A,">="&$B$18,Income!$A:$A,"<="&$B$19)+SUMIFS(Income!$O:$O,Income!$U:$U,F$2,Income!$A:$A,">="&$B$18,Income!$A:$A,"<="&$B$19)+SUMIFS(Income!$P:$P,Income!$U:$U,F$2,Income!$A:$A,">="&$B$18,Income!$A:$A,"<="&$B$19)) | G3: =SUM(B3:F3)
A4: Platform fees | B4: =IF(B$2="","",SUMIFS(Income!$O:$O,Income!$U:$U,B$2,Income!$A:$A,">="&$B$18,Income!$A:$A,"<="&$B$19)+SUMIFS(Income!$P:$P,Income!$U:$U,B$2,Income!$A:$A,">="&$B$18,Income!$A:$A,"<="&$B$19)) | C4: =IF(C$2="","",SUMIFS(Income!$O:$O,Income!$U:$U,C$2,Income!$A:$A,">="&$B$18,Income!$A:$A,"<="&$B$19)+SUMIFS(Income!$P:$P,Income!$U:$U,C$2,Income!$A:$A,">="&$B$18,Income!$A:$A,"<="&$B$19)) | D4: =IF(D$2="","",SUMIFS(Income!$O:$O,Income!$U:$U,D$2,Income!$A:$A,">="&$B$18,Income!$A:$A,"<="&$B$19)+SUMIFS(Income!$P:$P,Income!$U:$U,D$2,Income!$A:$A,">="&$B$18,Income!$A:$A,"<="&$B$19)) | E4: =IF(E$2="","",SUMIFS(Income!$O:$O,Income!$U:$U,E$2,Income!$A:$A,">="&$B$18,Income!$A:$A,"<="&$B$19)+SUMIFS(Income!$P:$P,Income!$U:$U,E$2,Income!$A:$A,">="&$B$18,Income!$A:$A,"<="&$B$19)) | F4: =IF(F$2="","",SUMIFS(Income!$O:$O,Income!$U:$U,F$2,Income!$A:$A,">="&$B$18,Income!$A:$A,"<="&$B$19)+SUMIFS(Income!$P:$P,Income!$U:$U,F$2,Income!$A:$A,">="&$B$18,Income!$A:$A,"<="&$B$19)) | G4: =SUM(B4:F4)
A5: Cleaning and supplies | B5: =IF(B$2="","",SUMIFS(Costs!$E:$E,Costs!$B:$B,B$2,Costs!$C:$C,$A5,Costs!$A:$A,">="&$B$18,Costs!$A:$A,"<="&$B$19)+12*SUMIFS(Bills!$F:$F,Bills!$A:$A,B$2,Bills!$C:$C,$A5)) | C5: =IF(C$2="","",SUMIFS(Costs!$E:$E,Costs!$B:$B,C$2,Costs!$C:$C,$A5,Costs!$A:$A,">="&$B$18,Costs!$A:$A,"<="&$B$19)+12*SUMIFS(Bills!$F:$F,Bills!$A:$A,C$2,Bills!$C:$C,$A5)) | D5: =IF(D$2="","",SUMIFS(Costs!$E:$E,Costs!$B:$B,D$2,Costs!$C:$C,$A5,Costs!$A:$A,">="&$B$18,Costs!$A:$A,"<="&$B$19)+12*SUMIFS(Bills!$F:$F,Bills!$A:$A,D$2,Bills!$C:$C,$A5)) | E5: =IF(E$2="","",SUMIFS(Costs!$E:$E,Costs!$B:$B,E$2,Costs!$C:$C,$A5,Costs!$A:$A,">="&$B$18,Costs!$A:$A,"<="&$B$19)+12*SUMIFS(Bills!$F:$F,Bills!$A:$A,E$2,Bills!$C:$C,$A5)) | F5: =IF(F$2="","",SUMIFS(Costs!$E:$E,Costs!$B:$B,F$2,Costs!$C:$C,$A5,Costs!$A:$A,">="&$B$18,Costs!$A:$A,"<="&$B$19)+12*SUMIFS(Bills!$F:$F,Bills!$A:$A,F$2,Bills!$C:$C,$A5)) | G5: =SUM(B5:F5)
A6: Interest | B6: =IF(B$2="","",SUMIFS(Costs!$E:$E,Costs!$B:$B,B$2,Costs!$C:$C,$A6,Costs!$A:$A,">="&$B$18,Costs!$A:$A,"<="&$B$19)+12*SUMIFS(Bills!$F:$F,Bills!$A:$A,B$2,Bills!$C:$C,$A6)) | C6: =IF(C$2="","",SUMIFS(Costs!$E:$E,Costs!$B:$B,C$2,Costs!$C:$C,$A6,Costs!$A:$A,">="&$B$18,Costs!$A:$A,"<="&$B$19)+12*SUMIFS(Bills!$F:$F,Bills!$A:$A,C$2,Bills!$C:$C,$A6)) | D6: =IF(D$2="","",SUMIFS(Costs!$E:$E,Costs!$B:$B,D$2,Costs!$C:$C,$A6,Costs!$A:$A,">="&$B$18,Costs!$A:$A,"<="&$B$19)+12*SUMIFS(Bills!$F:$F,Bills!$A:$A,D$2,Bills!$C:$C,$A6)) | E6: =IF(E$2="","",SUMIFS(Costs!$E:$E,Costs!$B:$B,E$2,Costs!$C:$C,$A6,Costs!$A:$A,">="&$B$18,Costs!$A:$A,"<="&$B$19)+12*SUMIFS(Bills!$F:$F,Bills!$A:$A,E$2,Bills!$C:$C,$A6)) | F6: =IF(F$2="","",SUMIFS(Costs!$E:$E,Costs!$B:$B,F$2,Costs!$C:$C,$A6,Costs!$A:$A,">="&$B$18,Costs!$A:$A,"<="&$B$19)+12*SUMIFS(Bills!$F:$F,Bills!$A:$A,F$2,Bills!$C:$C,$A6)) | G6: =SUM(B6:F6)
A7: Council rates | B7: =IF(B$2="","",SUMIFS(Costs!$E:$E,Costs!$B:$B,B$2,Costs!$C:$C,$A7,Costs!$A:$A,">="&$B$18,Costs!$A:$A,"<="&$B$19)+12*SUMIFS(Bills!$F:$F,Bills!$A:$A,B$2,Bills!$C:$C,$A7)) | C7: =IF(C$2="","",SUMIFS(Costs!$E:$E,Costs!$B:$B,C$2,Costs!$C:$C,$A7,Costs!$A:$A,">="&$B$18,Costs!$A:$A,"<="&$B$19)+12*SUMIFS(Bills!$F:$F,Bills!$A:$A,C$2,Bills!$C:$C,$A7)) | D7: =IF(D$2="","",SUMIFS(Costs!$E:$E,Costs!$B:$B,D$2,Costs!$C:$C,$A7,Costs!$A:$A,">="&$B$18,Costs!$A:$A,"<="&$B$19)+12*SUMIFS(Bills!$F:$F,Bills!$A:$A,D$2,Bills!$C:$C,$A7)) | E7: =IF(E$2="","",SUMIFS(Costs!$E:$E,Costs!$B:$B,E$2,Costs!$C:$C,$A7,Costs!$A:$A,">="&$B$18,Costs!$A:$A,"<="&$B$19)+12*SUMIFS(Bills!$F:$F,Bills!$A:$A,E$2,Bills!$C:$C,$A7)) | F7: =IF(F$2="","",SUMIFS(Costs!$E:$E,Costs!$B:$B,F$2,Costs!$C:$C,$A7,Costs!$A:$A,">="&$B$18,Costs!$A:$A,"<="&$B$19)+12*SUMIFS(Bills!$F:$F,Bills!$A:$A,F$2,Bills!$C:$C,$A7)) | G7: =SUM(B7:F7)
A8: Insurance | B8: =IF(B$2="","",SUMIFS(Costs!$E:$E,Costs!$B:$B,B$2,Costs!$C:$C,$A8,Costs!$A:$A,">="&$B$18,Costs!$A:$A,"<="&$B$19)+12*SUMIFS(Bills!$F:$F,Bills!$A:$A,B$2,Bills!$C:$C,$A8)) | C8: =IF(C$2="","",SUMIFS(Costs!$E:$E,Costs!$B:$B,C$2,Costs!$C:$C,$A8,Costs!$A:$A,">="&$B$18,Costs!$A:$A,"<="&$B$19)+12*SUMIFS(Bills!$F:$F,Bills!$A:$A,C$2,Bills!$C:$C,$A8)) | D8: =IF(D$2="","",SUMIFS(Costs!$E:$E,Costs!$B:$B,D$2,Costs!$C:$C,$A8,Costs!$A:$A,">="&$B$18,Costs!$A:$A,"<="&$B$19)+12*SUMIFS(Bills!$F:$F,Bills!$A:$A,D$2,Bills!$C:$C,$A8)) | E8: =IF(E$2="","",SUMIFS(Costs!$E:$E,Costs!$B:$B,E$2,Costs!$C:$C,$A8,Costs!$A:$A,">="&$B$18,Costs!$A:$A,"<="&$B$19)+12*SUMIFS(Bills!$F:$F,Bills!$A:$A,E$2,Bills!$C:$C,$A8)) | F8: =IF(F$2="","",SUMIFS(Costs!$E:$E,Costs!$B:$B,F$2,Costs!$C:$C,$A8,Costs!$A:$A,">="&$B$18,Costs!$A:$A,"<="&$B$19)+12*SUMIFS(Bills!$F:$F,Bills!$A:$A,F$2,Bills!$C:$C,$A8)) | G8: =SUM(B8:F8)
A9: Strata | B9: =IF(B$2="","",SUMIFS(Costs!$E:$E,Costs!$B:$B,B$2,Costs!$C:$C,$A9,Costs!$A:$A,">="&$B$18,Costs!$A:$A,"<="&$B$19)+12*SUMIFS(Bills!$F:$F,Bills!$A:$A,B$2,Bills!$C:$C,$A9)) | C9: =IF(C$2="","",SUMIFS(Costs!$E:$E,Costs!$B:$B,C$2,Costs!$C:$C,$A9,Costs!$A:$A,">="&$B$18,Costs!$A:$A,"<="&$B$19)+12*SUMIFS(Bills!$F:$F,Bills!$A:$A,C$2,Bills!$C:$C,$A9)) | D9: =IF(D$2="","",SUMIFS(Costs!$E:$E,Costs!$B:$B,D$2,Costs!$C:$C,$A9,Costs!$A:$A,">="&$B$18,Costs!$A:$A,"<="&$B$19)+12*SUMIFS(Bills!$F:$F,Bills!$A:$A,D$2,Bills!$C:$C,$A9)) | E9: =IF(E$2="","",SUMIFS(Costs!$E:$E,Costs!$B:$B,E$2,Costs!$C:$C,$A9,Costs!$A:$A,">="&$B$18,Costs!$A:$A,"<="&$B$19)+12*SUMIFS(Bills!$F:$F,Bills!$A:$A,E$2,Bills!$C:$C,$A9)) | F9: =IF(F$2="","",SUMIFS(Costs!$E:$E,Costs!$B:$B,F$2,Costs!$C:$C,$A9,Costs!$A:$A,">="&$B$18,Costs!$A:$A,"<="&$B$19)+12*SUMIFS(Bills!$F:$F,Bills!$A:$A,F$2,Bills!$C:$C,$A9)) | G9: =SUM(B9:F9)
A10: Repairs and maintenance | B10: =IF(B$2="","",SUMIFS(Costs!$E:$E,Costs!$B:$B,B$2,Costs!$C:$C,$A10,Costs!$A:$A,">="&$B$18,Costs!$A:$A,"<="&$B$19)+12*SUMIFS(Bills!$F:$F,Bills!$A:$A,B$2,Bills!$C:$C,$A10)) | C10: =IF(C$2="","",SUMIFS(Costs!$E:$E,Costs!$B:$B,C$2,Costs!$C:$C,$A10,Costs!$A:$A,">="&$B$18,Costs!$A:$A,"<="&$B$19)+12*SUMIFS(Bills!$F:$F,Bills!$A:$A,C$2,Bills!$C:$C,$A10)) | D10: =IF(D$2="","",SUMIFS(Costs!$E:$E,Costs!$B:$B,D$2,Costs!$C:$C,$A10,Costs!$A:$A,">="&$B$18,Costs!$A:$A,"<="&$B$19)+12*SUMIFS(Bills!$F:$F,Bills!$A:$A,D$2,Bills!$C:$C,$A10)) | E10: =IF(E$2="","",SUMIFS(Costs!$E:$E,Costs!$B:$B,E$2,Costs!$C:$C,$A10,Costs!$A:$A,">="&$B$18,Costs!$A:$A,"<="&$B$19)+12*SUMIFS(Bills!$F:$F,Bills!$A:$A,E$2,Bills!$C:$C,$A10)) | F10: =IF(F$2="","",SUMIFS(Costs!$E:$E,Costs!$B:$B,F$2,Costs!$C:$C,$A10,Costs!$A:$A,">="&$B$18,Costs!$A:$A,"<="&$B$19)+12*SUMIFS(Bills!$F:$F,Bills!$A:$A,F$2,Bills!$C:$C,$A10)) | G10: =SUM(B10:F10)
A11: Utilities | B11: =IF(B$2="","",SUMIFS(Costs!$E:$E,Costs!$B:$B,B$2,Costs!$C:$C,$A11,Costs!$A:$A,">="&$B$18,Costs!$A:$A,"<="&$B$19)+12*SUMIFS(Bills!$F:$F,Bills!$A:$A,B$2,Bills!$C:$C,$A11)) | C11: =IF(C$2="","",SUMIFS(Costs!$E:$E,Costs!$B:$B,C$2,Costs!$C:$C,$A11,Costs!$A:$A,">="&$B$18,Costs!$A:$A,"<="&$B$19)+12*SUMIFS(Bills!$F:$F,Bills!$A:$A,C$2,Bills!$C:$C,$A11)) | D11: =IF(D$2="","",SUMIFS(Costs!$E:$E,Costs!$B:$B,D$2,Costs!$C:$C,$A11,Costs!$A:$A,">="&$B$18,Costs!$A:$A,"<="&$B$19)+12*SUMIFS(Bills!$F:$F,Bills!$A:$A,D$2,Bills!$C:$C,$A11)) | E11: =IF(E$2="","",SUMIFS(Costs!$E:$E,Costs!$B:$B,E$2,Costs!$C:$C,$A11,Costs!$A:$A,">="&$B$18,Costs!$A:$A,"<="&$B$19)+12*SUMIFS(Bills!$F:$F,Bills!$A:$A,E$2,Bills!$C:$C,$A11)) | F11: =IF(F$2="","",SUMIFS(Costs!$E:$E,Costs!$B:$B,F$2,Costs!$C:$C,$A11,Costs!$A:$A,">="&$B$18,Costs!$A:$A,"<="&$B$19)+12*SUMIFS(Bills!$F:$F,Bills!$A:$A,F$2,Bills!$C:$C,$A11)) | G11: =SUM(B11:F11)
A12: Other | B12: =IF(B$2="","",SUMIFS(Costs!$E:$E,Costs!$B:$B,B$2,Costs!$C:$C,$A12,Costs!$A:$A,">="&$B$18,Costs!$A:$A,"<="&$B$19)+12*SUMIFS(Bills!$F:$F,Bills!$A:$A,B$2,Bills!$C:$C,$A12)) | C12: =IF(C$2="","",SUMIFS(Costs!$E:$E,Costs!$B:$B,C$2,Costs!$C:$C,$A12,Costs!$A:$A,">="&$B$18,Costs!$A:$A,"<="&$B$19)+12*SUMIFS(Bills!$F:$F,Bills!$A:$A,C$2,Bills!$C:$C,$A12)) | D12: =IF(D$2="","",SUMIFS(Costs!$E:$E,Costs!$B:$B,D$2,Costs!$C:$C,$A12,Costs!$A:$A,">="&$B$18,Costs!$A:$A,"<="&$B$19)+12*SUMIFS(Bills!$F:$F,Bills!$A:$A,D$2,Bills!$C:$C,$A12)) | E12: =IF(E$2="","",SUMIFS(Costs!$E:$E,Costs!$B:$B,E$2,Costs!$C:$C,$A12,Costs!$A:$A,">="&$B$18,Costs!$A:$A,"<="&$B$19)+12*SUMIFS(Bills!$F:$F,Bills!$A:$A,E$2,Bills!$C:$C,$A12)) | F12: =IF(F$2="","",SUMIFS(Costs!$E:$E,Costs!$B:$B,F$2,Costs!$C:$C,$A12,Costs!$A:$A,">="&$B$18,Costs!$A:$A,"<="&$B$19)+12*SUMIFS(Bills!$F:$F,Bills!$A:$A,F$2,Bills!$C:$C,$A12)) | G12: =SUM(B12:F12)
A13: Total expenses | B13: =IF(B$2="","",SUM(B4:B12)) | C13: =IF(C$2="","",SUM(C4:C12)) | D13: =IF(D$2="","",SUM(D4:D12)) | E13: =IF(E$2="","",SUM(E4:E12)) | F13: =IF(F$2="","",SUM(F4:F12)) | G13: =SUM(G4:G12)
A14: Net rental income | B14: =IF(B$2="","",B3-B13) | C14: =IF(C$2="","",C3-C13) | D14: =IF(D$2="","",D3-D13) | E14: =IF(E$2="","",E3-E13) | F14: =IF(F$2="","",F3-F13) | G14: =G3-G13
A18: Financial year from | B18: ='Start here'!$B$10
A19: to | B19: =DATE(YEAR(B18)+1,MONTH(B18),DAY(B18))-1
A21: A summary for your records, not tax advice. Check anything tax-related with your accountant.
A22: Sample data only covers October, so a full year of bills outweighs one month of income.
